BEGIN:VCALENDAR
VERSION:2.0
PRODID:-//McConnell Air Force Base - ECPv6.15.20//NONSGML v1.0//EN
CALSCALE:GREGORIAN
METHOD:PUBLISH
X-WR-CALNAME:McConnell Air Force Base
X-ORIGINAL-URL:https://refuelmcconnell.com
X-WR-CALDESC:Events for McConnell Air Force Base
REFRESH-INTERVAL;VALUE=DURATION:PT1H
X-Robots-Tag:noindex
X-PUBLISHED-TTL:PT1H
BEGIN:VTIMEZONE
TZID:America/Chicago
BEGIN:DAYLIGHT
TZOFFSETFROM:-0600
TZOFFSETTO:-0500
TZNAME:CDT
DTSTART:20250309T080000
END:DAYLIGHT
BEGIN:STANDARD
TZOFFSETFROM:-0500
TZOFFSETTO:-0600
TZNAME:CST
DTSTART:20251102T070000
END:STANDARD
BEGIN:DAYLIGHT
TZOFFSETFROM:-0600
TZOFFSETTO:-0500
TZNAME:CDT
DTSTART:20260308T080000
END:DAYLIGHT
BEGIN:STANDARD
TZOFFSETFROM:-0500
TZOFFSETTO:-0600
TZNAME:CST
DTSTART:20261101T070000
END:STANDARD
BEGIN:DAYLIGHT
TZOFFSETFROM:-0600
TZOFFSETTO:-0500
TZNAME:CDT
DTSTART:20270314T080000
END:DAYLIGHT
BEGIN:STANDARD
TZOFFSETFROM:-0500
TZOFFSETTO:-0600
TZNAME:CST
DTSTART:20271107T070000
END:STANDARD
END:VTIMEZONE
BEGIN:VEVENT
DTSTART;TZID=America/Chicago:20260529T180000
DTEND;TZID=America/Chicago:20260529T230000
DTSTAMP:20260425T071127
CREATED:20251201T164726Z
LAST-MODIFIED:20260305T141450Z
UID:10002301-1780077600-1780095600@refuelmcconnell.com
SUMMARY:Free Play Friday
DESCRIPTION:Free Play Friday at 6 PMCelebrate the end of the month with a night of pure fun at The Breakaway! \nKick off your weekend early and dive into an evening packed with entertainment. We’ve got something for everyone:• Six different gaming consoles• Classic and modern board games• Mini putt-putt• Sports games and more! \nBring your friends—or come make new ones! No matter how you play\, The Breakaway is the place to be to wrap up the month.
URL:https://refuelmcconnell.com/event/free-play-friday/2026-05-29/
LOCATION:The Breakaway Lounge\, Dole Center Building #412\, McConnell AFB\, KS\, 67221\, United States
CATEGORIES:Community Center,Tanker Tavern
ATTACH;FMTTYPE=image/png:https://refuelmcconnell.com/wp-content/uploads/2025/02/22fss-lan-gaming-events.png
END:VEVENT
BEGIN:VEVENT
DTSTART;TZID=America/Chicago:20260626T180000
DTEND;TZID=America/Chicago:20260626T230000
DTSTAMP:20260425T071127
CREATED:20251201T164726Z
LAST-MODIFIED:20260305T141450Z
UID:10002302-1782496800-1782514800@refuelmcconnell.com
SUMMARY:Free Play Friday
DESCRIPTION:Free Play Friday at 6 PMCelebrate the end of the month with a night of pure fun at The Breakaway! \nKick off your weekend early and dive into an evening packed with entertainment. We’ve got something for everyone:• Six different gaming consoles• Classic and modern board games• Mini putt-putt• Sports games and more! \nBring your friends—or come make new ones! No matter how you play\, The Breakaway is the place to be to wrap up the month.
URL:https://refuelmcconnell.com/event/free-play-friday/2026-06-26/
LOCATION:The Breakaway Lounge\, Dole Center Building #412\, McConnell AFB\, KS\, 67221\, United States
CATEGORIES:Community Center,Tanker Tavern
ATTACH;FMTTYPE=image/png:https://refuelmcconnell.com/wp-content/uploads/2025/02/22fss-lan-gaming-events.png
END:VEVENT
BEGIN:VEVENT
DTSTART;TZID=America/Chicago:20260731T180000
DTEND;TZID=America/Chicago:20260731T230000
DTSTAMP:20260425T071127
CREATED:20251201T164726Z
LAST-MODIFIED:20260305T141450Z
UID:10002303-1785520800-1785538800@refuelmcconnell.com
SUMMARY:Free Play Friday
DESCRIPTION:Free Play Friday at 6 PMCelebrate the end of the month with a night of pure fun at The Breakaway! \nKick off your weekend early and dive into an evening packed with entertainment. We’ve got something for everyone:• Six different gaming consoles• Classic and modern board games• Mini putt-putt• Sports games and more! \nBring your friends—or come make new ones! No matter how you play\, The Breakaway is the place to be to wrap up the month.
URL:https://refuelmcconnell.com/event/free-play-friday/2026-07-31/
LOCATION:The Breakaway Lounge\, Dole Center Building #412\, McConnell AFB\, KS\, 67221\, United States
CATEGORIES:Community Center,Tanker Tavern
ATTACH;FMTTYPE=image/png:https://refuelmcconnell.com/wp-content/uploads/2025/02/22fss-lan-gaming-events.png
END:VEVENT
BEGIN:VEVENT
DTSTART;TZID=America/Chicago:20260828T180000
DTEND;TZID=America/Chicago:20260828T230000
DTSTAMP:20260425T071127
CREATED:20251201T164726Z
LAST-MODIFIED:20260305T141450Z
UID:10002304-1787940000-1787958000@refuelmcconnell.com
SUMMARY:Free Play Friday
DESCRIPTION:Free Play Friday at 6 PMCelebrate the end of the month with a night of pure fun at The Breakaway! \nKick off your weekend early and dive into an evening packed with entertainment. We’ve got something for everyone:• Six different gaming consoles• Classic and modern board games• Mini putt-putt• Sports games and more! \nBring your friends—or come make new ones! No matter how you play\, The Breakaway is the place to be to wrap up the month.
URL:https://refuelmcconnell.com/event/free-play-friday/2026-08-28/
LOCATION:The Breakaway Lounge\, Dole Center Building #412\, McConnell AFB\, KS\, 67221\, United States
CATEGORIES:Community Center,Tanker Tavern
ATTACH;FMTTYPE=image/png:https://refuelmcconnell.com/wp-content/uploads/2025/02/22fss-lan-gaming-events.png
END:VEVENT
BEGIN:VEVENT
DTSTART;TZID=America/Chicago:20260925T180000
DTEND;TZID=America/Chicago:20260925T230000
DTSTAMP:20260425T071127
CREATED:20251201T164726Z
LAST-MODIFIED:20260305T141450Z
UID:10002305-1790359200-1790377200@refuelmcconnell.com
SUMMARY:Free Play Friday
DESCRIPTION:Free Play Friday at 6 PMCelebrate the end of the month with a night of pure fun at The Breakaway! \nKick off your weekend early and dive into an evening packed with entertainment. We’ve got something for everyone:• Six different gaming consoles• Classic and modern board games• Mini putt-putt• Sports games and more! \nBring your friends—or come make new ones! No matter how you play\, The Breakaway is the place to be to wrap up the month.
URL:https://refuelmcconnell.com/event/free-play-friday/2026-09-25/
LOCATION:The Breakaway Lounge\, Dole Center Building #412\, McConnell AFB\, KS\, 67221\, United States
CATEGORIES:Community Center,Tanker Tavern
ATTACH;FMTTYPE=image/png:https://refuelmcconnell.com/wp-content/uploads/2025/02/22fss-lan-gaming-events.png
END:VEVENT
BEGIN:VEVENT
DTSTART;TZID=America/Chicago:20261030T180000
DTEND;TZID=America/Chicago:20261030T230000
DTSTAMP:20260425T071127
CREATED:20251201T164726Z
LAST-MODIFIED:20260305T141450Z
UID:10002306-1793383200-1793401200@refuelmcconnell.com
SUMMARY:Free Play Friday
DESCRIPTION:Free Play Friday at 6 PMCelebrate the end of the month with a night of pure fun at The Breakaway! \nKick off your weekend early and dive into an evening packed with entertainment. We’ve got something for everyone:• Six different gaming consoles• Classic and modern board games• Mini putt-putt• Sports games and more! \nBring your friends—or come make new ones! No matter how you play\, The Breakaway is the place to be to wrap up the month.
URL:https://refuelmcconnell.com/event/free-play-friday/2026-10-30/
LOCATION:The Breakaway Lounge\, Dole Center Building #412\, McConnell AFB\, KS\, 67221\, United States
CATEGORIES:Community Center,Tanker Tavern
ATTACH;FMTTYPE=image/png:https://refuelmcconnell.com/wp-content/uploads/2025/02/22fss-lan-gaming-events.png
END:VEVENT
BEGIN:VEVENT
DTSTART;TZID=America/Chicago:20261120T180000
DTEND;TZID=America/Chicago:20261120T230000
DTSTAMP:20260425T071127
CREATED:20251201T164726Z
LAST-MODIFIED:20260305T141450Z
UID:10002307-1795197600-1795215600@refuelmcconnell.com
SUMMARY:Free Play Friday
DESCRIPTION:Free Play Friday at 6 PMCelebrate the end of the month with a night of pure fun at The Breakaway! \nKick off your weekend early and dive into an evening packed with entertainment. We’ve got something for everyone:• Six different gaming consoles• Classic and modern board games• Mini putt-putt• Sports games and more! \nBring your friends—or come make new ones! No matter how you play\, The Breakaway is the place to be to wrap up the month.
URL:https://refuelmcconnell.com/event/free-play-friday/2026-11-20/
LOCATION:The Breakaway Lounge\, Dole Center Building #412\, McConnell AFB\, KS\, 67221\, United States
CATEGORIES:Community Center,Tanker Tavern
ATTACH;FMTTYPE=image/png:https://refuelmcconnell.com/wp-content/uploads/2025/02/22fss-lan-gaming-events.png
END:VEVENT
END:VCALENDAR