BEGIN:VCALENDAR
VERSION:2.0
PRODID:-//McConnell Air Force Base - ECPv6.15.20//NONSGML v1.0//EN
CALSCALE:GREGORIAN
METHOD:PUBLISH
X-WR-CALNAME:McConnell Air Force Base
X-ORIGINAL-URL:https://refuelmcconnell.com
X-WR-CALDESC:Events for McConnell Air Force Base
REFRESH-INTERVAL;VALUE=DURATION:PT1H
X-Robots-Tag:noindex
X-PUBLISHED-TTL:PT1H
BEGIN:VTIMEZONE
TZID:America/Chicago
BEGIN:DAYLIGHT
TZOFFSETFROM:-0600
TZOFFSETTO:-0500
TZNAME:CDT
DTSTART:20250309T080000
END:DAYLIGHT
BEGIN:STANDARD
TZOFFSETFROM:-0500
TZOFFSETTO:-0600
TZNAME:CST
DTSTART:20251102T070000
END:STANDARD
BEGIN:DAYLIGHT
TZOFFSETFROM:-0600
TZOFFSETTO:-0500
TZNAME:CDT
DTSTART:20260308T080000
END:DAYLIGHT
BEGIN:STANDARD
TZOFFSETFROM:-0500
TZOFFSETTO:-0600
TZNAME:CST
DTSTART:20261101T070000
END:STANDARD
BEGIN:DAYLIGHT
TZOFFSETFROM:-0600
TZOFFSETTO:-0500
TZNAME:CDT
DTSTART:20270314T080000
END:DAYLIGHT
BEGIN:STANDARD
TZOFFSETFROM:-0500
TZOFFSETTO:-0600
TZNAME:CST
DTSTART:20271107T070000
END:STANDARD
END:VTIMEZONE
BEGIN:VEVENT
DTSTART;TZID=America/Chicago:20260501T150000
DTEND;TZID=America/Chicago:20260501T170000
DTSTAMP:20260424T143949
CREATED:20260225T152523Z
LAST-MODIFIED:20260323T171331Z
UID:10002228-1777647600-1777654800@refuelmcconnell.com
SUMMARY:First Friday
DESCRIPTION:Join us for themed fun all year long — with free themed food at the bar for everyone to enjoy! 🎉🍴 \nDon’t miss the vibes\, the flavors\, and the fun!
URL:https://refuelmcconnell.com/event/first-friday-4/2026-05-01/
LOCATION:Tanker Tavern\, Dole Center
CATEGORIES:Community Center,Tanker Tavern
ATTACH;FMTTYPE=image/jpeg:https://refuelmcconnell.com/wp-content/uploads/2024/06/22fss-first-friday-events-1.jpg
END:VEVENT
BEGIN:VEVENT
DTSTART;TZID=America/Chicago:20260605T150000
DTEND;TZID=America/Chicago:20260605T170000
DTSTAMP:20260424T143949
CREATED:20260225T152523Z
LAST-MODIFIED:20260323T171331Z
UID:10002229-1780671600-1780678800@refuelmcconnell.com
SUMMARY:First Friday
DESCRIPTION:Join us for themed fun all year long — with free themed food at the bar for everyone to enjoy! 🎉🍴 \nDon’t miss the vibes\, the flavors\, and the fun!
URL:https://refuelmcconnell.com/event/first-friday-4/2026-06-05/
LOCATION:Tanker Tavern\, Dole Center
CATEGORIES:Community Center,Tanker Tavern
ATTACH;FMTTYPE=image/jpeg:https://refuelmcconnell.com/wp-content/uploads/2024/06/22fss-first-friday-events-1.jpg
END:VEVENT
BEGIN:VEVENT
DTSTART;TZID=America/Chicago:20260710T150000
DTEND;TZID=America/Chicago:20260710T170000
DTSTAMP:20260424T143949
CREATED:20260225T152523Z
LAST-MODIFIED:20260323T171331Z
UID:10002230-1783695600-1783702800@refuelmcconnell.com
SUMMARY:First Friday
DESCRIPTION:Join us for themed fun all year long — with free themed food at the bar for everyone to enjoy! 🎉🍴 \nDon’t miss the vibes\, the flavors\, and the fun!
URL:https://refuelmcconnell.com/event/first-friday-4/2026-07-10/
LOCATION:Tanker Tavern\, Dole Center
CATEGORIES:Community Center,Tanker Tavern
ATTACH;FMTTYPE=image/jpeg:https://refuelmcconnell.com/wp-content/uploads/2024/06/22fss-first-friday-events-1.jpg
END:VEVENT
BEGIN:VEVENT
DTSTART;TZID=America/Chicago:20260807T150000
DTEND;TZID=America/Chicago:20260807T170000
DTSTAMP:20260424T143949
CREATED:20260225T152523Z
LAST-MODIFIED:20260323T171331Z
UID:10002231-1786114800-1786122000@refuelmcconnell.com
SUMMARY:First Friday
DESCRIPTION:Join us for themed fun all year long — with free themed food at the bar for everyone to enjoy! 🎉🍴 \nDon’t miss the vibes\, the flavors\, and the fun!
URL:https://refuelmcconnell.com/event/first-friday-4/2026-08-07/
LOCATION:Tanker Tavern\, Dole Center
CATEGORIES:Community Center,Tanker Tavern
ATTACH;FMTTYPE=image/jpeg:https://refuelmcconnell.com/wp-content/uploads/2024/06/22fss-first-friday-events-1.jpg
END:VEVENT
BEGIN:VEVENT
DTSTART;TZID=America/Chicago:20260904T150000
DTEND;TZID=America/Chicago:20260904T170000
DTSTAMP:20260424T143949
CREATED:20260225T152523Z
LAST-MODIFIED:20260323T171331Z
UID:10002232-1788534000-1788541200@refuelmcconnell.com
SUMMARY:First Friday
DESCRIPTION:Join us for themed fun all year long — with free themed food at the bar for everyone to enjoy! 🎉🍴 \nDon’t miss the vibes\, the flavors\, and the fun!
URL:https://refuelmcconnell.com/event/first-friday-4/2026-09-04/
LOCATION:Tanker Tavern\, Dole Center
CATEGORIES:Community Center,Tanker Tavern
ATTACH;FMTTYPE=image/jpeg:https://refuelmcconnell.com/wp-content/uploads/2024/06/22fss-first-friday-events-1.jpg
END:VEVENT
BEGIN:VEVENT
DTSTART;TZID=America/Chicago:20261002T150000
DTEND;TZID=America/Chicago:20261002T170000
DTSTAMP:20260424T143949
CREATED:20260225T152523Z
LAST-MODIFIED:20260323T171331Z
UID:10002233-1790953200-1790960400@refuelmcconnell.com
SUMMARY:First Friday
DESCRIPTION:Join us for themed fun all year long — with free themed food at the bar for everyone to enjoy! 🎉🍴 \nDon’t miss the vibes\, the flavors\, and the fun!
URL:https://refuelmcconnell.com/event/first-friday-4/2026-10-02/
LOCATION:Tanker Tavern\, Dole Center
CATEGORIES:Community Center,Tanker Tavern
ATTACH;FMTTYPE=image/jpeg:https://refuelmcconnell.com/wp-content/uploads/2024/06/22fss-first-friday-events-1.jpg
END:VEVENT
BEGIN:VEVENT
DTSTART;TZID=America/Chicago:20261106T150000
DTEND;TZID=America/Chicago:20261106T170000
DTSTAMP:20260424T143949
CREATED:20260225T152523Z
LAST-MODIFIED:20260323T171331Z
UID:10002234-1793977200-1793984400@refuelmcconnell.com
SUMMARY:First Friday
DESCRIPTION:Join us for themed fun all year long — with free themed food at the bar for everyone to enjoy! 🎉🍴 \nDon’t miss the vibes\, the flavors\, and the fun!
URL:https://refuelmcconnell.com/event/first-friday-4/2026-11-06/
LOCATION:Tanker Tavern\, Dole Center
CATEGORIES:Community Center,Tanker Tavern
ATTACH;FMTTYPE=image/jpeg:https://refuelmcconnell.com/wp-content/uploads/2024/06/22fss-first-friday-events-1.jpg
END:VEVENT
BEGIN:VEVENT
DTSTART;TZID=America/Chicago:20261204T150000
DTEND;TZID=America/Chicago:20261204T170000
DTSTAMP:20260424T143949
CREATED:20260225T152523Z
LAST-MODIFIED:20260323T171331Z
UID:10002235-1796396400-1796403600@refuelmcconnell.com
SUMMARY:First Friday
DESCRIPTION:Join us for themed fun all year long — with free themed food at the bar for everyone to enjoy! 🎉🍴 \nDon’t miss the vibes\, the flavors\, and the fun!
URL:https://refuelmcconnell.com/event/first-friday-4/2026-12-04/
LOCATION:Tanker Tavern\, Dole Center
CATEGORIES:Community Center,Tanker Tavern
ATTACH;FMTTYPE=image/jpeg:https://refuelmcconnell.com/wp-content/uploads/2024/06/22fss-first-friday-events-1.jpg
END:VEVENT
END:VCALENDAR