BEGIN:VCALENDAR
VERSION:2.0
PRODID:-//McConnell Air Force Base - ECPv6.15.20//NONSGML v1.0//EN
CALSCALE:GREGORIAN
METHOD:PUBLISH
X-WR-CALNAME:McConnell Air Force Base
X-ORIGINAL-URL:https://refuelmcconnell.com
X-WR-CALDESC:Events for McConnell Air Force Base
REFRESH-INTERVAL;VALUE=DURATION:PT1H
X-Robots-Tag:noindex
X-PUBLISHED-TTL:PT1H
BEGIN:VTIMEZONE
TZID:America/Chicago
BEGIN:DAYLIGHT
TZOFFSETFROM:-0600
TZOFFSETTO:-0500
TZNAME:CDT
DTSTART:20250309T080000
END:DAYLIGHT
BEGIN:STANDARD
TZOFFSETFROM:-0500
TZOFFSETTO:-0600
TZNAME:CST
DTSTART:20251102T070000
END:STANDARD
BEGIN:DAYLIGHT
TZOFFSETFROM:-0600
TZOFFSETTO:-0500
TZNAME:CDT
DTSTART:20260308T080000
END:DAYLIGHT
BEGIN:STANDARD
TZOFFSETFROM:-0500
TZOFFSETTO:-0600
TZNAME:CST
DTSTART:20261101T070000
END:STANDARD
BEGIN:DAYLIGHT
TZOFFSETFROM:-0600
TZOFFSETTO:-0500
TZNAME:CDT
DTSTART:20270314T080000
END:DAYLIGHT
BEGIN:STANDARD
TZOFFSETFROM:-0500
TZOFFSETTO:-0600
TZNAME:CST
DTSTART:20271107T070000
END:STANDARD
END:VTIMEZONE
BEGIN:VEVENT
DTSTART;TZID=America/Chicago:20260502T120000
DTEND;TZID=America/Chicago:20260502T160000
DTSTAMP:20260424T130453
CREATED:20251202T190536Z
LAST-MODIFIED:20260305T143241Z
UID:10002001-1777723200-1777737600@refuelmcconnell.com
SUMMARY:Crafternoon
DESCRIPTION:Cost: $5 per hour\, plus materials. \nFeeling inspired and ready to dive into a new project? Our studio is open and fully equipped for your creativity! Use our tools\, space\, and supplies to bring your ideas to life. \nDon’t have a project in mind? No worries! Each month\, we’ll feature a special\, step-by-step craft you can follow—perfect for beginners and experienced creators alike. All ages and skill levels are welcome! \nMonthly Dates & Featured Crafts: \n\n\nMarch 7: Paracord Friendship Bracelets with ODR \n\n\nApril 18: Clay Flower Pots (hand-build your own or paint a pre-made pot) \n\n\nMay 2: Pinewood Derby Cars \n\n\nJuly 11: Welcome Door Signs \n\n\nAugust 1: Wooden Bird Houses \n\n\nSeptember 12: Glass Fusion \n\n\nOctober 3: Loom-Knitted Scarves \n\n\nNovember 7: Sewing How-To \n\n\nDecember 5: Snow Globe Ornaments \n\n\nCome create\, unwind\, and enjoy a fun night of crafting each month!
URL:https://refuelmcconnell.com/event/crafternoon/2026-05-02/
CATEGORIES:Arts & Crafts
ATTACH;FMTTYPE=image/png:https://refuelmcconnell.com/wp-content/uploads/2025/12/Crafternoon-2026-updated2-screen.png
END:VEVENT
BEGIN:VEVENT
DTSTART;TZID=America/Chicago:20260711T120000
DTEND;TZID=America/Chicago:20260711T160000
DTSTAMP:20260424T130453
CREATED:20251202T190536Z
LAST-MODIFIED:20260305T143241Z
UID:10002002-1783771200-1783785600@refuelmcconnell.com
SUMMARY:Crafternoon
DESCRIPTION:Cost: $5 per hour\, plus materials. \nFeeling inspired and ready to dive into a new project? Our studio is open and fully equipped for your creativity! Use our tools\, space\, and supplies to bring your ideas to life. \nDon’t have a project in mind? No worries! Each month\, we’ll feature a special\, step-by-step craft you can follow—perfect for beginners and experienced creators alike. All ages and skill levels are welcome! \nMonthly Dates & Featured Crafts: \n\n\nMarch 7: Paracord Friendship Bracelets with ODR \n\n\nApril 18: Clay Flower Pots (hand-build your own or paint a pre-made pot) \n\n\nMay 2: Pinewood Derby Cars \n\n\nJuly 11: Welcome Door Signs \n\n\nAugust 1: Wooden Bird Houses \n\n\nSeptember 12: Glass Fusion \n\n\nOctober 3: Loom-Knitted Scarves \n\n\nNovember 7: Sewing How-To \n\n\nDecember 5: Snow Globe Ornaments \n\n\nCome create\, unwind\, and enjoy a fun night of crafting each month!
URL:https://refuelmcconnell.com/event/crafternoon/2026-07-11/
CATEGORIES:Arts & Crafts
ATTACH;FMTTYPE=image/png:https://refuelmcconnell.com/wp-content/uploads/2025/12/Crafternoon-2026-updated2-screen.png
END:VEVENT
BEGIN:VEVENT
DTSTART;TZID=America/Chicago:20260801T120000
DTEND;TZID=America/Chicago:20260801T160000
DTSTAMP:20260424T130453
CREATED:20251202T190536Z
LAST-MODIFIED:20260305T143241Z
UID:10002003-1785585600-1785600000@refuelmcconnell.com
SUMMARY:Crafternoon
DESCRIPTION:Cost: $5 per hour\, plus materials. \nFeeling inspired and ready to dive into a new project? Our studio is open and fully equipped for your creativity! Use our tools\, space\, and supplies to bring your ideas to life. \nDon’t have a project in mind? No worries! Each month\, we’ll feature a special\, step-by-step craft you can follow—perfect for beginners and experienced creators alike. All ages and skill levels are welcome! \nMonthly Dates & Featured Crafts: \n\n\nMarch 7: Paracord Friendship Bracelets with ODR \n\n\nApril 18: Clay Flower Pots (hand-build your own or paint a pre-made pot) \n\n\nMay 2: Pinewood Derby Cars \n\n\nJuly 11: Welcome Door Signs \n\n\nAugust 1: Wooden Bird Houses \n\n\nSeptember 12: Glass Fusion \n\n\nOctober 3: Loom-Knitted Scarves \n\n\nNovember 7: Sewing How-To \n\n\nDecember 5: Snow Globe Ornaments \n\n\nCome create\, unwind\, and enjoy a fun night of crafting each month!
URL:https://refuelmcconnell.com/event/crafternoon/2026-08-01/
CATEGORIES:Arts & Crafts
ATTACH;FMTTYPE=image/png:https://refuelmcconnell.com/wp-content/uploads/2025/12/Crafternoon-2026-updated2-screen.png
END:VEVENT
BEGIN:VEVENT
DTSTART;TZID=America/Chicago:20260912T120000
DTEND;TZID=America/Chicago:20260912T160000
DTSTAMP:20260424T130453
CREATED:20251202T190536Z
LAST-MODIFIED:20260305T143241Z
UID:10002004-1789214400-1789228800@refuelmcconnell.com
SUMMARY:Crafternoon
DESCRIPTION:Cost: $5 per hour\, plus materials. \nFeeling inspired and ready to dive into a new project? Our studio is open and fully equipped for your creativity! Use our tools\, space\, and supplies to bring your ideas to life. \nDon’t have a project in mind? No worries! Each month\, we’ll feature a special\, step-by-step craft you can follow—perfect for beginners and experienced creators alike. All ages and skill levels are welcome! \nMonthly Dates & Featured Crafts: \n\n\nMarch 7: Paracord Friendship Bracelets with ODR \n\n\nApril 18: Clay Flower Pots (hand-build your own or paint a pre-made pot) \n\n\nMay 2: Pinewood Derby Cars \n\n\nJuly 11: Welcome Door Signs \n\n\nAugust 1: Wooden Bird Houses \n\n\nSeptember 12: Glass Fusion \n\n\nOctober 3: Loom-Knitted Scarves \n\n\nNovember 7: Sewing How-To \n\n\nDecember 5: Snow Globe Ornaments \n\n\nCome create\, unwind\, and enjoy a fun night of crafting each month!
URL:https://refuelmcconnell.com/event/crafternoon/2026-09-12/
CATEGORIES:Arts & Crafts
ATTACH;FMTTYPE=image/png:https://refuelmcconnell.com/wp-content/uploads/2025/12/Crafternoon-2026-updated2-screen.png
END:VEVENT
BEGIN:VEVENT
DTSTART;TZID=America/Chicago:20261003T120000
DTEND;TZID=America/Chicago:20261003T160000
DTSTAMP:20260424T130453
CREATED:20251202T190536Z
LAST-MODIFIED:20260305T143241Z
UID:10002005-1791028800-1791043200@refuelmcconnell.com
SUMMARY:Crafternoon
DESCRIPTION:Cost: $5 per hour\, plus materials. \nFeeling inspired and ready to dive into a new project? Our studio is open and fully equipped for your creativity! Use our tools\, space\, and supplies to bring your ideas to life. \nDon’t have a project in mind? No worries! Each month\, we’ll feature a special\, step-by-step craft you can follow—perfect for beginners and experienced creators alike. All ages and skill levels are welcome! \nMonthly Dates & Featured Crafts: \n\n\nMarch 7: Paracord Friendship Bracelets with ODR \n\n\nApril 18: Clay Flower Pots (hand-build your own or paint a pre-made pot) \n\n\nMay 2: Pinewood Derby Cars \n\n\nJuly 11: Welcome Door Signs \n\n\nAugust 1: Wooden Bird Houses \n\n\nSeptember 12: Glass Fusion \n\n\nOctober 3: Loom-Knitted Scarves \n\n\nNovember 7: Sewing How-To \n\n\nDecember 5: Snow Globe Ornaments \n\n\nCome create\, unwind\, and enjoy a fun night of crafting each month!
URL:https://refuelmcconnell.com/event/crafternoon/2026-10-03/
CATEGORIES:Arts & Crafts
ATTACH;FMTTYPE=image/png:https://refuelmcconnell.com/wp-content/uploads/2025/12/Crafternoon-2026-updated2-screen.png
END:VEVENT
BEGIN:VEVENT
DTSTART;TZID=America/Chicago:20261107T120000
DTEND;TZID=America/Chicago:20261107T160000
DTSTAMP:20260424T130453
CREATED:20251202T190536Z
LAST-MODIFIED:20260305T143241Z
UID:10002006-1794052800-1794067200@refuelmcconnell.com
SUMMARY:Crafternoon
DESCRIPTION:Cost: $5 per hour\, plus materials. \nFeeling inspired and ready to dive into a new project? Our studio is open and fully equipped for your creativity! Use our tools\, space\, and supplies to bring your ideas to life. \nDon’t have a project in mind? No worries! Each month\, we’ll feature a special\, step-by-step craft you can follow—perfect for beginners and experienced creators alike. All ages and skill levels are welcome! \nMonthly Dates & Featured Crafts: \n\n\nMarch 7: Paracord Friendship Bracelets with ODR \n\n\nApril 18: Clay Flower Pots (hand-build your own or paint a pre-made pot) \n\n\nMay 2: Pinewood Derby Cars \n\n\nJuly 11: Welcome Door Signs \n\n\nAugust 1: Wooden Bird Houses \n\n\nSeptember 12: Glass Fusion \n\n\nOctober 3: Loom-Knitted Scarves \n\n\nNovember 7: Sewing How-To \n\n\nDecember 5: Snow Globe Ornaments \n\n\nCome create\, unwind\, and enjoy a fun night of crafting each month!
URL:https://refuelmcconnell.com/event/crafternoon/2026-11-07/
CATEGORIES:Arts & Crafts
ATTACH;FMTTYPE=image/png:https://refuelmcconnell.com/wp-content/uploads/2025/12/Crafternoon-2026-updated2-screen.png
END:VEVENT
BEGIN:VEVENT
DTSTART;TZID=America/Chicago:20261205T120000
DTEND;TZID=America/Chicago:20261205T160000
DTSTAMP:20260424T130453
CREATED:20251202T190536Z
LAST-MODIFIED:20260305T143241Z
UID:10002007-1796472000-1796486400@refuelmcconnell.com
SUMMARY:Crafternoon
DESCRIPTION:Cost: $5 per hour\, plus materials. \nFeeling inspired and ready to dive into a new project? Our studio is open and fully equipped for your creativity! Use our tools\, space\, and supplies to bring your ideas to life. \nDon’t have a project in mind? No worries! Each month\, we’ll feature a special\, step-by-step craft you can follow—perfect for beginners and experienced creators alike. All ages and skill levels are welcome! \nMonthly Dates & Featured Crafts: \n\n\nMarch 7: Paracord Friendship Bracelets with ODR \n\n\nApril 18: Clay Flower Pots (hand-build your own or paint a pre-made pot) \n\n\nMay 2: Pinewood Derby Cars \n\n\nJuly 11: Welcome Door Signs \n\n\nAugust 1: Wooden Bird Houses \n\n\nSeptember 12: Glass Fusion \n\n\nOctober 3: Loom-Knitted Scarves \n\n\nNovember 7: Sewing How-To \n\n\nDecember 5: Snow Globe Ornaments \n\n\nCome create\, unwind\, and enjoy a fun night of crafting each month!
URL:https://refuelmcconnell.com/event/crafternoon/2026-12-05/
CATEGORIES:Arts & Crafts
ATTACH;FMTTYPE=image/png:https://refuelmcconnell.com/wp-content/uploads/2025/12/Crafternoon-2026-updated2-screen.png
END:VEVENT
END:VCALENDAR