BEGIN:VCALENDAR
VERSION:2.0
PRODID:-//McConnell Air Force Base - ECPv6.15.20//NONSGML v1.0//EN
CALSCALE:GREGORIAN
METHOD:PUBLISH
X-WR-CALNAME:McConnell Air Force Base
X-ORIGINAL-URL:https://refuelmcconnell.com
X-WR-CALDESC:Events for McConnell Air Force Base
REFRESH-INTERVAL;VALUE=DURATION:PT1H
X-Robots-Tag:noindex
X-PUBLISHED-TTL:PT1H
BEGIN:VTIMEZONE
TZID:America/Chicago
BEGIN:DAYLIGHT
TZOFFSETFROM:-0600
TZOFFSETTO:-0500
TZNAME:CDT
DTSTART:20250309T080000
END:DAYLIGHT
BEGIN:STANDARD
TZOFFSETFROM:-0500
TZOFFSETTO:-0600
TZNAME:CST
DTSTART:20251102T070000
END:STANDARD
BEGIN:DAYLIGHT
TZOFFSETFROM:-0600
TZOFFSETTO:-0500
TZNAME:CDT
DTSTART:20260308T080000
END:DAYLIGHT
BEGIN:STANDARD
TZOFFSETFROM:-0500
TZOFFSETTO:-0600
TZNAME:CST
DTSTART:20261101T070000
END:STANDARD
BEGIN:DAYLIGHT
TZOFFSETFROM:-0600
TZOFFSETTO:-0500
TZNAME:CDT
DTSTART:20270314T080000
END:DAYLIGHT
BEGIN:STANDARD
TZOFFSETFROM:-0500
TZOFFSETTO:-0600
TZNAME:CST
DTSTART:20271107T070000
END:STANDARD
END:VTIMEZONE
BEGIN:VEVENT
DTSTART;TZID=America/Chicago:20260424T173000
DTEND;TZID=America/Chicago:20260424T200000
DTSTAMP:20260424T162503
CREATED:20251126T174434Z
LAST-MODIFIED:20251126T174445Z
UID:10001953-1777051800-1777060800@refuelmcconnell.com
SUMMARY:Wood Shop Safety Build Class
DESCRIPTION:Woodworking Table Build SeriesCost: $30 • Time: 5:30–8 PM \nReady to get into woodworking but not sure where to start? This hands-on\, four-week beginner series will guide you from the basics to a completed project. Our expert instructor will teach tool safety\, wood selection\, joinery\, and finishing techniques—ensuring you gain the confidence to use every tool in our Wood Shop. \nBy the end of the series\, you’ll walk away with new skills and a solid-wood table you built yourself. All tools and materials are included. \nFuture Classes: \n\n\nRound 4: Apr 24\, May 1\, 8 & 15 \n\n\nRound 5: Jul 10\, 17\, 24 & 31 \n\n\nRound 6: Aug 7\, 14\, 21 & 28 \n\n\nRound 7: Sept 11\, 18\, 25 & Oct 2 \n\n\nRound 8: Oct 30\, Nov 6\, 13 & 20
URL:https://refuelmcconnell.com/event/wood-shop-safety-build-class-5/2026-04-24/
CATEGORIES:Arts & Crafts
ATTACH;FMTTYPE=image/jpeg:https://refuelmcconnell.com/wp-content/uploads/2025/11/Wood-Shop-Safety-Build-Class.jpg
END:VEVENT
BEGIN:VEVENT
DTSTART;TZID=America/Chicago:20260501T173000
DTEND;TZID=America/Chicago:20260501T200000
DTSTAMP:20260424T162503
CREATED:20251126T174434Z
LAST-MODIFIED:20251126T174445Z
UID:10001954-1777656600-1777665600@refuelmcconnell.com
SUMMARY:Wood Shop Safety Build Class
DESCRIPTION:Woodworking Table Build SeriesCost: $30 • Time: 5:30–8 PM \nReady to get into woodworking but not sure where to start? This hands-on\, four-week beginner series will guide you from the basics to a completed project. Our expert instructor will teach tool safety\, wood selection\, joinery\, and finishing techniques—ensuring you gain the confidence to use every tool in our Wood Shop. \nBy the end of the series\, you’ll walk away with new skills and a solid-wood table you built yourself. All tools and materials are included. \nFuture Classes: \n\n\nRound 4: Apr 24\, May 1\, 8 & 15 \n\n\nRound 5: Jul 10\, 17\, 24 & 31 \n\n\nRound 6: Aug 7\, 14\, 21 & 28 \n\n\nRound 7: Sept 11\, 18\, 25 & Oct 2 \n\n\nRound 8: Oct 30\, Nov 6\, 13 & 20
URL:https://refuelmcconnell.com/event/wood-shop-safety-build-class-5/2026-05-01/
CATEGORIES:Arts & Crafts
ATTACH;FMTTYPE=image/jpeg:https://refuelmcconnell.com/wp-content/uploads/2025/11/Wood-Shop-Safety-Build-Class.jpg
END:VEVENT
BEGIN:VEVENT
DTSTART;TZID=America/Chicago:20260508T173000
DTEND;TZID=America/Chicago:20260508T200000
DTSTAMP:20260424T162503
CREATED:20251126T174434Z
LAST-MODIFIED:20251126T174445Z
UID:10001955-1778261400-1778270400@refuelmcconnell.com
SUMMARY:Wood Shop Safety Build Class
DESCRIPTION:Woodworking Table Build SeriesCost: $30 • Time: 5:30–8 PM \nReady to get into woodworking but not sure where to start? This hands-on\, four-week beginner series will guide you from the basics to a completed project. Our expert instructor will teach tool safety\, wood selection\, joinery\, and finishing techniques—ensuring you gain the confidence to use every tool in our Wood Shop. \nBy the end of the series\, you’ll walk away with new skills and a solid-wood table you built yourself. All tools and materials are included. \nFuture Classes: \n\n\nRound 4: Apr 24\, May 1\, 8 & 15 \n\n\nRound 5: Jul 10\, 17\, 24 & 31 \n\n\nRound 6: Aug 7\, 14\, 21 & 28 \n\n\nRound 7: Sept 11\, 18\, 25 & Oct 2 \n\n\nRound 8: Oct 30\, Nov 6\, 13 & 20
URL:https://refuelmcconnell.com/event/wood-shop-safety-build-class-5/2026-05-08/
CATEGORIES:Arts & Crafts
ATTACH;FMTTYPE=image/jpeg:https://refuelmcconnell.com/wp-content/uploads/2025/11/Wood-Shop-Safety-Build-Class.jpg
END:VEVENT
BEGIN:VEVENT
DTSTART;TZID=America/Chicago:20260515T173000
DTEND;TZID=America/Chicago:20260515T200000
DTSTAMP:20260424T162503
CREATED:20251126T174434Z
LAST-MODIFIED:20251126T174445Z
UID:10001956-1778866200-1778875200@refuelmcconnell.com
SUMMARY:Wood Shop Safety Build Class
DESCRIPTION:Woodworking Table Build SeriesCost: $30 • Time: 5:30–8 PM \nReady to get into woodworking but not sure where to start? This hands-on\, four-week beginner series will guide you from the basics to a completed project. Our expert instructor will teach tool safety\, wood selection\, joinery\, and finishing techniques—ensuring you gain the confidence to use every tool in our Wood Shop. \nBy the end of the series\, you’ll walk away with new skills and a solid-wood table you built yourself. All tools and materials are included. \nFuture Classes: \n\n\nRound 4: Apr 24\, May 1\, 8 & 15 \n\n\nRound 5: Jul 10\, 17\, 24 & 31 \n\n\nRound 6: Aug 7\, 14\, 21 & 28 \n\n\nRound 7: Sept 11\, 18\, 25 & Oct 2 \n\n\nRound 8: Oct 30\, Nov 6\, 13 & 20
URL:https://refuelmcconnell.com/event/wood-shop-safety-build-class-5/2026-05-15/
CATEGORIES:Arts & Crafts
ATTACH;FMTTYPE=image/jpeg:https://refuelmcconnell.com/wp-content/uploads/2025/11/Wood-Shop-Safety-Build-Class.jpg
END:VEVENT
BEGIN:VEVENT
DTSTART;TZID=America/Chicago:20260710T173000
DTEND;TZID=America/Chicago:20260710T200000
DTSTAMP:20260424T162503
CREATED:20251126T174135Z
LAST-MODIFIED:20251126T174314Z
UID:10001945-1783704600-1783713600@refuelmcconnell.com
SUMMARY:Wood Shop Safety Build Class
DESCRIPTION:Woodworking Table Build SeriesCost: $30 • Time: 5:30–8 PM \nReady to get into woodworking but not sure where to start? This hands-on\, four-week beginner series will guide you from the basics to a completed project. Our expert instructor will teach tool safety\, wood selection\, joinery\, and finishing techniques—ensuring you gain the confidence to use every tool in our Wood Shop. \nBy the end of the series\, you’ll walk away with new skills and a solid-wood table you built yourself. All tools and materials are included. \nFuture Classes: \n\n\nRound 5: Jul 10\, 17\, 24 & 31 \n\n\nRound 6: Aug 7\, 14\, 21 & 28 \n\n\nRound 7: Sept 11\, 18\, 25 & Oct 2 \n\n\nRound 8: Oct 30\, Nov 6\, 13 & 20
URL:https://refuelmcconnell.com/event/wood-shop-safety-build-class-4/2026-07-10/
CATEGORIES:Arts & Crafts
ATTACH;FMTTYPE=image/jpeg:https://refuelmcconnell.com/wp-content/uploads/2025/11/Wood-Shop-Safety-Build-Class.jpg
END:VEVENT
BEGIN:VEVENT
DTSTART;TZID=America/Chicago:20260717T173000
DTEND;TZID=America/Chicago:20260717T200000
DTSTAMP:20260424T162503
CREATED:20251126T174135Z
LAST-MODIFIED:20251126T174314Z
UID:10001946-1784309400-1784318400@refuelmcconnell.com
SUMMARY:Wood Shop Safety Build Class
DESCRIPTION:Woodworking Table Build SeriesCost: $30 • Time: 5:30–8 PM \nReady to get into woodworking but not sure where to start? This hands-on\, four-week beginner series will guide you from the basics to a completed project. Our expert instructor will teach tool safety\, wood selection\, joinery\, and finishing techniques—ensuring you gain the confidence to use every tool in our Wood Shop. \nBy the end of the series\, you’ll walk away with new skills and a solid-wood table you built yourself. All tools and materials are included. \nFuture Classes: \n\n\nRound 5: Jul 10\, 17\, 24 & 31 \n\n\nRound 6: Aug 7\, 14\, 21 & 28 \n\n\nRound 7: Sept 11\, 18\, 25 & Oct 2 \n\n\nRound 8: Oct 30\, Nov 6\, 13 & 20
URL:https://refuelmcconnell.com/event/wood-shop-safety-build-class-4/2026-07-17/
CATEGORIES:Arts & Crafts
ATTACH;FMTTYPE=image/jpeg:https://refuelmcconnell.com/wp-content/uploads/2025/11/Wood-Shop-Safety-Build-Class.jpg
END:VEVENT
BEGIN:VEVENT
DTSTART;TZID=America/Chicago:20260724T173000
DTEND;TZID=America/Chicago:20260724T200000
DTSTAMP:20260424T162503
CREATED:20251126T174135Z
LAST-MODIFIED:20251126T174314Z
UID:10001947-1784914200-1784923200@refuelmcconnell.com
SUMMARY:Wood Shop Safety Build Class
DESCRIPTION:Woodworking Table Build SeriesCost: $30 • Time: 5:30–8 PM \nReady to get into woodworking but not sure where to start? This hands-on\, four-week beginner series will guide you from the basics to a completed project. Our expert instructor will teach tool safety\, wood selection\, joinery\, and finishing techniques—ensuring you gain the confidence to use every tool in our Wood Shop. \nBy the end of the series\, you’ll walk away with new skills and a solid-wood table you built yourself. All tools and materials are included. \nFuture Classes: \n\n\nRound 5: Jul 10\, 17\, 24 & 31 \n\n\nRound 6: Aug 7\, 14\, 21 & 28 \n\n\nRound 7: Sept 11\, 18\, 25 & Oct 2 \n\n\nRound 8: Oct 30\, Nov 6\, 13 & 20
URL:https://refuelmcconnell.com/event/wood-shop-safety-build-class-4/2026-07-24/
CATEGORIES:Arts & Crafts
ATTACH;FMTTYPE=image/jpeg:https://refuelmcconnell.com/wp-content/uploads/2025/11/Wood-Shop-Safety-Build-Class.jpg
END:VEVENT
BEGIN:VEVENT
DTSTART;TZID=America/Chicago:20260731T173000
DTEND;TZID=America/Chicago:20260731T200000
DTSTAMP:20260424T162503
CREATED:20251126T174135Z
LAST-MODIFIED:20251126T174314Z
UID:10001948-1785519000-1785528000@refuelmcconnell.com
SUMMARY:Wood Shop Safety Build Class
DESCRIPTION:Woodworking Table Build SeriesCost: $30 • Time: 5:30–8 PM \nReady to get into woodworking but not sure where to start? This hands-on\, four-week beginner series will guide you from the basics to a completed project. Our expert instructor will teach tool safety\, wood selection\, joinery\, and finishing techniques—ensuring you gain the confidence to use every tool in our Wood Shop. \nBy the end of the series\, you’ll walk away with new skills and a solid-wood table you built yourself. All tools and materials are included. \nFuture Classes: \n\n\nRound 5: Jul 10\, 17\, 24 & 31 \n\n\nRound 6: Aug 7\, 14\, 21 & 28 \n\n\nRound 7: Sept 11\, 18\, 25 & Oct 2 \n\n\nRound 8: Oct 30\, Nov 6\, 13 & 20
URL:https://refuelmcconnell.com/event/wood-shop-safety-build-class-4/2026-07-31/
CATEGORIES:Arts & Crafts
ATTACH;FMTTYPE=image/jpeg:https://refuelmcconnell.com/wp-content/uploads/2025/11/Wood-Shop-Safety-Build-Class.jpg
END:VEVENT
BEGIN:VEVENT
DTSTART;TZID=America/Chicago:20260807T173000
DTEND;TZID=America/Chicago:20260807T200000
DTSTAMP:20260424T162503
CREATED:20251126T174712Z
LAST-MODIFIED:20251126T174729Z
UID:10001961-1786123800-1786132800@refuelmcconnell.com
SUMMARY:Wood Shop Safety Build Class
DESCRIPTION:Woodworking Table Build SeriesCost: $30 • Time: 5:30–8 PM \nReady to get into woodworking but not sure where to start? This hands-on\, four-week beginner series will guide you from the basics to a completed project. Our expert instructor will teach tool safety\, wood selection\, joinery\, and finishing techniques—ensuring you gain the confidence to use every tool in our Wood Shop. \nBy the end of the series\, you’ll walk away with new skills and a solid-wood table you built yourself. All tools and materials are included. \nFuture Classes: \n\n\nRound 6: Aug 7\, 14\, 21 & 28 \n\n\nRound 7: Sept 11\, 18\, 25 & Oct 2 \n\n\nRound 8: Oct 30\, Nov 6\, 13 & 20
URL:https://refuelmcconnell.com/event/wood-shop-safety-build-class-6/2026-08-07/
CATEGORIES:Arts & Crafts
ATTACH;FMTTYPE=image/jpeg:https://refuelmcconnell.com/wp-content/uploads/2025/11/Wood-Shop-Safety-Build-Class.jpg
END:VEVENT
BEGIN:VEVENT
DTSTART;TZID=America/Chicago:20260814T173000
DTEND;TZID=America/Chicago:20260814T200000
DTSTAMP:20260424T162503
CREATED:20251126T174712Z
LAST-MODIFIED:20251126T174729Z
UID:10001962-1786728600-1786737600@refuelmcconnell.com
SUMMARY:Wood Shop Safety Build Class
DESCRIPTION:Woodworking Table Build SeriesCost: $30 • Time: 5:30–8 PM \nReady to get into woodworking but not sure where to start? This hands-on\, four-week beginner series will guide you from the basics to a completed project. Our expert instructor will teach tool safety\, wood selection\, joinery\, and finishing techniques—ensuring you gain the confidence to use every tool in our Wood Shop. \nBy the end of the series\, you’ll walk away with new skills and a solid-wood table you built yourself. All tools and materials are included. \nFuture Classes: \n\n\nRound 6: Aug 7\, 14\, 21 & 28 \n\n\nRound 7: Sept 11\, 18\, 25 & Oct 2 \n\n\nRound 8: Oct 30\, Nov 6\, 13 & 20
URL:https://refuelmcconnell.com/event/wood-shop-safety-build-class-6/2026-08-14/
CATEGORIES:Arts & Crafts
ATTACH;FMTTYPE=image/jpeg:https://refuelmcconnell.com/wp-content/uploads/2025/11/Wood-Shop-Safety-Build-Class.jpg
END:VEVENT
BEGIN:VEVENT
DTSTART;TZID=America/Chicago:20260821T173000
DTEND;TZID=America/Chicago:20260821T200000
DTSTAMP:20260424T162503
CREATED:20251126T174712Z
LAST-MODIFIED:20251126T174729Z
UID:10001963-1787333400-1787342400@refuelmcconnell.com
SUMMARY:Wood Shop Safety Build Class
DESCRIPTION:Woodworking Table Build SeriesCost: $30 • Time: 5:30–8 PM \nReady to get into woodworking but not sure where to start? This hands-on\, four-week beginner series will guide you from the basics to a completed project. Our expert instructor will teach tool safety\, wood selection\, joinery\, and finishing techniques—ensuring you gain the confidence to use every tool in our Wood Shop. \nBy the end of the series\, you’ll walk away with new skills and a solid-wood table you built yourself. All tools and materials are included. \nFuture Classes: \n\n\nRound 6: Aug 7\, 14\, 21 & 28 \n\n\nRound 7: Sept 11\, 18\, 25 & Oct 2 \n\n\nRound 8: Oct 30\, Nov 6\, 13 & 20
URL:https://refuelmcconnell.com/event/wood-shop-safety-build-class-6/2026-08-21/
CATEGORIES:Arts & Crafts
ATTACH;FMTTYPE=image/jpeg:https://refuelmcconnell.com/wp-content/uploads/2025/11/Wood-Shop-Safety-Build-Class.jpg
END:VEVENT
BEGIN:VEVENT
DTSTART;TZID=America/Chicago:20260828T173000
DTEND;TZID=America/Chicago:20260828T200000
DTSTAMP:20260424T162503
CREATED:20251126T174712Z
LAST-MODIFIED:20251126T174729Z
UID:10001964-1787938200-1787947200@refuelmcconnell.com
SUMMARY:Wood Shop Safety Build Class
DESCRIPTION:Woodworking Table Build SeriesCost: $30 • Time: 5:30–8 PM \nReady to get into woodworking but not sure where to start? This hands-on\, four-week beginner series will guide you from the basics to a completed project. Our expert instructor will teach tool safety\, wood selection\, joinery\, and finishing techniques—ensuring you gain the confidence to use every tool in our Wood Shop. \nBy the end of the series\, you’ll walk away with new skills and a solid-wood table you built yourself. All tools and materials are included. \nFuture Classes: \n\n\nRound 6: Aug 7\, 14\, 21 & 28 \n\n\nRound 7: Sept 11\, 18\, 25 & Oct 2 \n\n\nRound 8: Oct 30\, Nov 6\, 13 & 20
URL:https://refuelmcconnell.com/event/wood-shop-safety-build-class-6/2026-08-28/
CATEGORIES:Arts & Crafts
ATTACH;FMTTYPE=image/jpeg:https://refuelmcconnell.com/wp-content/uploads/2025/11/Wood-Shop-Safety-Build-Class.jpg
END:VEVENT
BEGIN:VEVENT
DTSTART;TZID=America/Chicago:20260911T173000
DTEND;TZID=America/Chicago:20260911T200000
DTSTAMP:20260424T162503
CREATED:20251126T174951Z
LAST-MODIFIED:20251126T180325Z
UID:10001969-1789147800-1789156800@refuelmcconnell.com
SUMMARY:Wood Shop Safety Build Class
DESCRIPTION:Woodworking Table Build SeriesCost: $30 • Time: 5:30–8 PM \nReady to get into woodworking but not sure where to start? This hands-on\, four-week beginner series will guide you from the basics to a completed project. Our expert instructor will teach tool safety\, wood selection\, joinery\, and finishing techniques—ensuring you gain the confidence to use every tool in our Wood Shop. \nBy the end of the series\, you’ll walk away with new skills and a solid-wood table you built yourself. All tools and materials are included. \nFuture Classes: \n\n\nRound 7: Sept 11\, 18\, 25 & Oct 2 \n\n\nRound 8: Oct 30\, Nov 6\, 13 & 20
URL:https://refuelmcconnell.com/event/wood-shop-safety-build-class-7/2026-09-11/
CATEGORIES:Arts & Crafts
ATTACH;FMTTYPE=image/jpeg:https://refuelmcconnell.com/wp-content/uploads/2025/11/Wood-Shop-Safety-Build-Class.jpg
END:VEVENT
BEGIN:VEVENT
DTSTART;TZID=America/Chicago:20260918T173000
DTEND;TZID=America/Chicago:20260918T200000
DTSTAMP:20260424T162503
CREATED:20251126T174951Z
LAST-MODIFIED:20251126T180325Z
UID:10001970-1789752600-1789761600@refuelmcconnell.com
SUMMARY:Wood Shop Safety Build Class
DESCRIPTION:Woodworking Table Build SeriesCost: $30 • Time: 5:30–8 PM \nReady to get into woodworking but not sure where to start? This hands-on\, four-week beginner series will guide you from the basics to a completed project. Our expert instructor will teach tool safety\, wood selection\, joinery\, and finishing techniques—ensuring you gain the confidence to use every tool in our Wood Shop. \nBy the end of the series\, you’ll walk away with new skills and a solid-wood table you built yourself. All tools and materials are included. \nFuture Classes: \n\n\nRound 7: Sept 11\, 18\, 25 & Oct 2 \n\n\nRound 8: Oct 30\, Nov 6\, 13 & 20
URL:https://refuelmcconnell.com/event/wood-shop-safety-build-class-7/2026-09-18/
CATEGORIES:Arts & Crafts
ATTACH;FMTTYPE=image/jpeg:https://refuelmcconnell.com/wp-content/uploads/2025/11/Wood-Shop-Safety-Build-Class.jpg
END:VEVENT
BEGIN:VEVENT
DTSTART;TZID=America/Chicago:20260925T173000
DTEND;TZID=America/Chicago:20260925T200000
DTSTAMP:20260424T162503
CREATED:20251126T174951Z
LAST-MODIFIED:20251126T180325Z
UID:10001971-1790357400-1790366400@refuelmcconnell.com
SUMMARY:Wood Shop Safety Build Class
DESCRIPTION:Woodworking Table Build SeriesCost: $30 • Time: 5:30–8 PM \nReady to get into woodworking but not sure where to start? This hands-on\, four-week beginner series will guide you from the basics to a completed project. Our expert instructor will teach tool safety\, wood selection\, joinery\, and finishing techniques—ensuring you gain the confidence to use every tool in our Wood Shop. \nBy the end of the series\, you’ll walk away with new skills and a solid-wood table you built yourself. All tools and materials are included. \nFuture Classes: \n\n\nRound 7: Sept 11\, 18\, 25 & Oct 2 \n\n\nRound 8: Oct 30\, Nov 6\, 13 & 20
URL:https://refuelmcconnell.com/event/wood-shop-safety-build-class-7/2026-09-25/
CATEGORIES:Arts & Crafts
ATTACH;FMTTYPE=image/jpeg:https://refuelmcconnell.com/wp-content/uploads/2025/11/Wood-Shop-Safety-Build-Class.jpg
END:VEVENT
BEGIN:VEVENT
DTSTART;TZID=America/Chicago:20261002T173000
DTEND;TZID=America/Chicago:20261002T200000
DTSTAMP:20260424T162503
CREATED:20251126T174951Z
LAST-MODIFIED:20251126T180325Z
UID:10001972-1790962200-1790971200@refuelmcconnell.com
SUMMARY:Wood Shop Safety Build Class
DESCRIPTION:Woodworking Table Build SeriesCost: $30 • Time: 5:30–8 PM \nReady to get into woodworking but not sure where to start? This hands-on\, four-week beginner series will guide you from the basics to a completed project. Our expert instructor will teach tool safety\, wood selection\, joinery\, and finishing techniques—ensuring you gain the confidence to use every tool in our Wood Shop. \nBy the end of the series\, you’ll walk away with new skills and a solid-wood table you built yourself. All tools and materials are included. \nFuture Classes: \n\n\nRound 7: Sept 11\, 18\, 25 & Oct 2 \n\n\nRound 8: Oct 30\, Nov 6\, 13 & 20
URL:https://refuelmcconnell.com/event/wood-shop-safety-build-class-7/2026-10-02/
CATEGORIES:Arts & Crafts
ATTACH;FMTTYPE=image/jpeg:https://refuelmcconnell.com/wp-content/uploads/2025/11/Wood-Shop-Safety-Build-Class.jpg
END:VEVENT
BEGIN:VEVENT
DTSTART;TZID=America/Chicago:20261030T173000
DTEND;TZID=America/Chicago:20261030T200000
DTSTAMP:20260424T162503
CREATED:20251126T180519Z
LAST-MODIFIED:20251126T180746Z
UID:10001977-1793381400-1793390400@refuelmcconnell.com
SUMMARY:Wood Shop Safety Build Class
DESCRIPTION:Woodworking Table Build SeriesCost: $30 • Time: 5:30–8 PM \nReady to get into woodworking but not sure where to start? This hands-on\, four-week beginner series will guide you from the basics to a completed project. Our expert instructor will teach tool safety\, wood selection\, joinery\, and finishing techniques—ensuring you gain the confidence to use every tool in our Wood Shop. \nBy the end of the series\, you’ll walk away with new skills and a solid-wood table you built yourself. All tools and materials are included. \nFuture Classes: \n\n\nRound 8: Oct 30\, Nov 6\, 13 & 20
URL:https://refuelmcconnell.com/event/wood-shop-safety-build-class-8/2026-10-30/
CATEGORIES:Arts & Crafts
ATTACH;FMTTYPE=image/jpeg:https://refuelmcconnell.com/wp-content/uploads/2025/11/Wood-Shop-Safety-Build-Class.jpg
END:VEVENT
BEGIN:VEVENT
DTSTART;TZID=America/Chicago:20261106T173000
DTEND;TZID=America/Chicago:20261106T200000
DTSTAMP:20260424T162503
CREATED:20251126T180519Z
LAST-MODIFIED:20251126T180746Z
UID:10001978-1793986200-1793995200@refuelmcconnell.com
SUMMARY:Wood Shop Safety Build Class
DESCRIPTION:Woodworking Table Build SeriesCost: $30 • Time: 5:30–8 PM \nReady to get into woodworking but not sure where to start? This hands-on\, four-week beginner series will guide you from the basics to a completed project. Our expert instructor will teach tool safety\, wood selection\, joinery\, and finishing techniques—ensuring you gain the confidence to use every tool in our Wood Shop. \nBy the end of the series\, you’ll walk away with new skills and a solid-wood table you built yourself. All tools and materials are included. \nFuture Classes: \n\n\nRound 8: Oct 30\, Nov 6\, 13 & 20
URL:https://refuelmcconnell.com/event/wood-shop-safety-build-class-8/2026-11-06/
CATEGORIES:Arts & Crafts
ATTACH;FMTTYPE=image/jpeg:https://refuelmcconnell.com/wp-content/uploads/2025/11/Wood-Shop-Safety-Build-Class.jpg
END:VEVENT
BEGIN:VEVENT
DTSTART;TZID=America/Chicago:20261113T173000
DTEND;TZID=America/Chicago:20261113T200000
DTSTAMP:20260424T162503
CREATED:20251126T180519Z
LAST-MODIFIED:20251126T180746Z
UID:10001979-1794591000-1794600000@refuelmcconnell.com
SUMMARY:Wood Shop Safety Build Class
DESCRIPTION:Woodworking Table Build SeriesCost: $30 • Time: 5:30–8 PM \nReady to get into woodworking but not sure where to start? This hands-on\, four-week beginner series will guide you from the basics to a completed project. Our expert instructor will teach tool safety\, wood selection\, joinery\, and finishing techniques—ensuring you gain the confidence to use every tool in our Wood Shop. \nBy the end of the series\, you’ll walk away with new skills and a solid-wood table you built yourself. All tools and materials are included. \nFuture Classes: \n\n\nRound 8: Oct 30\, Nov 6\, 13 & 20
URL:https://refuelmcconnell.com/event/wood-shop-safety-build-class-8/2026-11-13/
CATEGORIES:Arts & Crafts
ATTACH;FMTTYPE=image/jpeg:https://refuelmcconnell.com/wp-content/uploads/2025/11/Wood-Shop-Safety-Build-Class.jpg
END:VEVENT
BEGIN:VEVENT
DTSTART;TZID=America/Chicago:20261120T173000
DTEND;TZID=America/Chicago:20261120T200000
DTSTAMP:20260424T162503
CREATED:20251126T180519Z
LAST-MODIFIED:20251126T180746Z
UID:10001980-1795195800-1795204800@refuelmcconnell.com
SUMMARY:Wood Shop Safety Build Class
DESCRIPTION:Woodworking Table Build SeriesCost: $30 • Time: 5:30–8 PM \nReady to get into woodworking but not sure where to start? This hands-on\, four-week beginner series will guide you from the basics to a completed project. Our expert instructor will teach tool safety\, wood selection\, joinery\, and finishing techniques—ensuring you gain the confidence to use every tool in our Wood Shop. \nBy the end of the series\, you’ll walk away with new skills and a solid-wood table you built yourself. All tools and materials are included. \nFuture Classes: \n\n\nRound 8: Oct 30\, Nov 6\, 13 & 20
URL:https://refuelmcconnell.com/event/wood-shop-safety-build-class-8/2026-11-20/
CATEGORIES:Arts & Crafts
ATTACH;FMTTYPE=image/jpeg:https://refuelmcconnell.com/wp-content/uploads/2025/11/Wood-Shop-Safety-Build-Class.jpg
END:VEVENT
END:VCALENDAR