BEGIN:VCALENDAR
VERSION:2.0
PRODID:-//McConnell Air Force Base - ECPv6.15.20//NONSGML v1.0//EN
CALSCALE:GREGORIAN
METHOD:PUBLISH
X-WR-CALNAME:McConnell Air Force Base
X-ORIGINAL-URL:https://refuelmcconnell.com
X-WR-CALDESC:Events for McConnell Air Force Base
REFRESH-INTERVAL;VALUE=DURATION:PT1H
X-Robots-Tag:noindex
X-PUBLISHED-TTL:PT1H
BEGIN:VTIMEZONE
TZID:America/Chicago
BEGIN:DAYLIGHT
TZOFFSETFROM:-0600
TZOFFSETTO:-0500
TZNAME:CDT
DTSTART:20250309T080000
END:DAYLIGHT
BEGIN:STANDARD
TZOFFSETFROM:-0500
TZOFFSETTO:-0600
TZNAME:CST
DTSTART:20251102T070000
END:STANDARD
BEGIN:DAYLIGHT
TZOFFSETFROM:-0600
TZOFFSETTO:-0500
TZNAME:CDT
DTSTART:20260308T080000
END:DAYLIGHT
BEGIN:STANDARD
TZOFFSETFROM:-0500
TZOFFSETTO:-0600
TZNAME:CST
DTSTART:20261101T070000
END:STANDARD
BEGIN:DAYLIGHT
TZOFFSETFROM:-0600
TZOFFSETTO:-0500
TZNAME:CDT
DTSTART:20270314T080000
END:DAYLIGHT
BEGIN:STANDARD
TZOFFSETFROM:-0500
TZOFFSETTO:-0600
TZNAME:CST
DTSTART:20271107T070000
END:STANDARD
END:VTIMEZONE
BEGIN:VEVENT
DTSTART;TZID=America/Chicago:20260507T120000
DTEND;TZID=America/Chicago:20260507T160000
DTSTAMP:20260424T162345
CREATED:20251120T222538Z
LAST-MODIFIED:20251120T222538Z
UID:10001861-1778155200-1778169600@refuelmcconnell.com
SUMMARY:Great Expectations - M&FRC
DESCRIPTION:Have a baby on the way? Come learn about resources available to help expectant parents! Topics include: budgeting for baby\, what to expect after birth\, relationship changes\, car seat safety\, and more. All active duty Air Force families will receive $150 from the Air Force Aid Society for their participation. \nCall 316-759-6020 to sign up at least two days in advance. \n2026 dates are:\n5 March\, 7 May\, 23 July\, 10 September\, 19 November
URL:https://refuelmcconnell.com/event/great-expectations-mfrc/2026-05-07/
CATEGORIES:Family,Military & Family Readiness Center
ATTACH;FMTTYPE=image/jpeg:https://refuelmcconnell.com/wp-content/uploads/2024/12/22FSS-great-expectations-events.jpg
END:VEVENT
BEGIN:VEVENT
DTSTART;TZID=America/Chicago:20260723T120000
DTEND;TZID=America/Chicago:20260723T160000
DTSTAMP:20260424T162345
CREATED:20251120T222538Z
LAST-MODIFIED:20251120T222538Z
UID:10001862-1784808000-1784822400@refuelmcconnell.com
SUMMARY:Great Expectations - M&FRC
DESCRIPTION:Have a baby on the way? Come learn about resources available to help expectant parents! Topics include: budgeting for baby\, what to expect after birth\, relationship changes\, car seat safety\, and more. All active duty Air Force families will receive $150 from the Air Force Aid Society for their participation. \nCall 316-759-6020 to sign up at least two days in advance. \n2026 dates are:\n5 March\, 7 May\, 23 July\, 10 September\, 19 November
URL:https://refuelmcconnell.com/event/great-expectations-mfrc/2026-07-23/
CATEGORIES:Family,Military & Family Readiness Center
ATTACH;FMTTYPE=image/jpeg:https://refuelmcconnell.com/wp-content/uploads/2024/12/22FSS-great-expectations-events.jpg
END:VEVENT
BEGIN:VEVENT
DTSTART;TZID=America/Chicago:20260910T120000
DTEND;TZID=America/Chicago:20260910T160000
DTSTAMP:20260424T162345
CREATED:20251120T222538Z
LAST-MODIFIED:20251120T222538Z
UID:10001863-1789041600-1789056000@refuelmcconnell.com
SUMMARY:Great Expectations - M&FRC
DESCRIPTION:Have a baby on the way? Come learn about resources available to help expectant parents! Topics include: budgeting for baby\, what to expect after birth\, relationship changes\, car seat safety\, and more. All active duty Air Force families will receive $150 from the Air Force Aid Society for their participation. \nCall 316-759-6020 to sign up at least two days in advance. \n2026 dates are:\n5 March\, 7 May\, 23 July\, 10 September\, 19 November
URL:https://refuelmcconnell.com/event/great-expectations-mfrc/2026-09-10/
CATEGORIES:Family,Military & Family Readiness Center
ATTACH;FMTTYPE=image/jpeg:https://refuelmcconnell.com/wp-content/uploads/2024/12/22FSS-great-expectations-events.jpg
END:VEVENT
BEGIN:VEVENT
DTSTART;TZID=America/Chicago:20261119T120000
DTEND;TZID=America/Chicago:20261119T160000
DTSTAMP:20260424T162345
CREATED:20251120T222538Z
LAST-MODIFIED:20251120T222538Z
UID:10001864-1795089600-1795104000@refuelmcconnell.com
SUMMARY:Great Expectations - M&FRC
DESCRIPTION:Have a baby on the way? Come learn about resources available to help expectant parents! Topics include: budgeting for baby\, what to expect after birth\, relationship changes\, car seat safety\, and more. All active duty Air Force families will receive $150 from the Air Force Aid Society for their participation. \nCall 316-759-6020 to sign up at least two days in advance. \n2026 dates are:\n5 March\, 7 May\, 23 July\, 10 September\, 19 November
URL:https://refuelmcconnell.com/event/great-expectations-mfrc/2026-11-19/
CATEGORIES:Family,Military & Family Readiness Center
ATTACH;FMTTYPE=image/jpeg:https://refuelmcconnell.com/wp-content/uploads/2024/12/22FSS-great-expectations-events.jpg
END:VEVENT
END:VCALENDAR