BEGIN:VCALENDAR
VERSION:2.0
PRODID:-//McConnell Air Force Base - ECPv6.15.20//NONSGML v1.0//EN
CALSCALE:GREGORIAN
METHOD:PUBLISH
X-WR-CALNAME:McConnell Air Force Base
X-ORIGINAL-URL:https://refuelmcconnell.com
X-WR-CALDESC:Events for McConnell Air Force Base
REFRESH-INTERVAL;VALUE=DURATION:PT1H
X-Robots-Tag:noindex
X-PUBLISHED-TTL:PT1H
BEGIN:VTIMEZONE
TZID:America/Chicago
BEGIN:DAYLIGHT
TZOFFSETFROM:-0600
TZOFFSETTO:-0500
TZNAME:CDT
DTSTART:20250309T080000
END:DAYLIGHT
BEGIN:STANDARD
TZOFFSETFROM:-0500
TZOFFSETTO:-0600
TZNAME:CST
DTSTART:20251102T070000
END:STANDARD
BEGIN:DAYLIGHT
TZOFFSETFROM:-0600
TZOFFSETTO:-0500
TZNAME:CDT
DTSTART:20260308T080000
END:DAYLIGHT
BEGIN:STANDARD
TZOFFSETFROM:-0500
TZOFFSETTO:-0600
TZNAME:CST
DTSTART:20261101T070000
END:STANDARD
BEGIN:DAYLIGHT
TZOFFSETFROM:-0600
TZOFFSETTO:-0500
TZNAME:CDT
DTSTART:20270314T080000
END:DAYLIGHT
BEGIN:STANDARD
TZOFFSETFROM:-0500
TZOFFSETTO:-0600
TZNAME:CST
DTSTART:20271107T070000
END:STANDARD
END:VTIMEZONE
BEGIN:VEVENT
DTSTART;TZID=America/Chicago:20260425T070000
DTEND;TZID=America/Chicago:20260425T160000
DTSTAMP:20260425T071546
CREATED:20251209T182438Z
LAST-MODIFIED:20260130T162908Z
UID:10002029-1777100400-1777132800@refuelmcconnell.com
SUMMARY:Festival of the Arts
DESCRIPTION:Festival of the ArtsApril 25 | 7 a.m. – 4 p.m. |  $40 \nCelebrate creativity at the Festival of the Arts\, a vibrant community event showcasing the very best in visual\, performing\, and culinary arts. \nEvent Highlights:• Visual Arts: Paintings\, jewelry\, photography\, mixed media\, and more• Performing Arts: Dance\, music\, magic\, and additional live entertainment• Culinary Arts: Food\, food\, and more food—with over 30 delicious options to choose from \nJoin us for a full day of art\, performances\, and great eats!
URL:https://refuelmcconnell.com/event/festival-of-the-arts/
CATEGORIES:ITT Travel
ATTACH;FMTTYPE=image/jpeg:https://refuelmcconnell.com/wp-content/uploads/2025/12/AdobeStock_502067129-scaled-e1769790537800.jpeg
END:VEVENT
BEGIN:VEVENT
DTSTART;TZID=America/Chicago:20260425T100000
DTEND;TZID=America/Chicago:20260425T140000
DTSTAMP:20260425T071546
CREATED:20260126T211235Z
LAST-MODIFIED:20260126T211235Z
UID:10002098-1777111200-1777125600@refuelmcconnell.com
SUMMARY:Tour De Redbud
DESCRIPTION:Trail Ride: Augusta to AndoverEnjoy a 6-mile trail ride from Augusta to Andover\, featuring a lunch stop at a local trailside eatery\, Point Nine (lunch not provided). \n🚴 Meet-Up Location: Dole Center Main Parking Lot⏰ Departure Time: 10:00 a.m.📅 Date: April 25📝 Sign-Up Deadline: April 24 \nTransportation & Rentals: \n\n\nBike transportation provided \n\n\nTransportation available (limited space) \n\n\n$10 bike rentals available through ODR \n\n\nMust come in to reserve and get fitted for rental \n\n\n\n\n🕙 Event Time: 10:00 a.m. – 2:00 p.m.📍 Sign up through ODR \nLet me know if you want this shortened for Facebook\, expanded for a website\, or made a little more adventurous in tone 🚴‍♀️🌤️
URL:https://refuelmcconnell.com/event/tour-de-redbud/
CATEGORIES:Outdoor Recreation
END:VEVENT
BEGIN:VEVENT
DTSTART;TZID=America/Chicago:20260425T120000
DTEND;TZID=America/Chicago:20260425T160000
DTSTAMP:20260425T071546
CREATED:20260303T155732Z
LAST-MODIFIED:20260303T161834Z
UID:10002282-1777118400-1777132800@refuelmcconnell.com
SUMMARY:Swim Lessons
DESCRIPTION:🏊‍♂️ Make a Splash with Swim Lessons! 🌊 \nJoin Outdoor Recreation for swim classes—just $10 per class with 3 classes offered each month! 💦 \n📅 Class Schedule:\n👶 Parent & Baby (6+ months): 12:00–12:45 PM\n🧒 Toddler (2–5 years): 12:50–1:35 PM\n🧑‍🎓 School Age (5–10 years): 1:40–2:25 PM\n🧒 School Age (11–16 years): 2:25–3:10 PM\n👩‍🦳 Adult (16+ years): 3:15–4:00 PM \n📍 Sign up today with Outdoor Recreation! 📝 Call 316-759-4435. \n💧 Spots are limited\, so dive in and reserve yours now! 💧 \nWhat to Bring to Swim Lessons: \n• Swimsuit \n• Towel \n• Googles (Optional) \n• Swim Cap (Optional) \n• Water bottle (recommended)
URL:https://refuelmcconnell.com/event/swim-lessons-2/2026-04-25/
CATEGORIES:Outdoor Recreation
ATTACH;FMTTYPE=image/jpeg:https://refuelmcconnell.com/wp-content/uploads/2025/05/22fss-swim-lessons-cover.jpg
END:VEVENT
BEGIN:VEVENT
DTSTART;TZID=America/Chicago:20260425T123000
DTEND;TZID=America/Chicago:20260425T150000
DTSTAMP:20260425T071546
CREATED:20260305T142922Z
LAST-MODIFIED:20260305T142922Z
UID:10002308-1777120200-1777129200@refuelmcconnell.com
SUMMARY:Tailor your Taylors
DESCRIPTION:Free Custom Chucks Event! Ready to rock shoes that are 100% YOU? Join our exclusive Tailor Your Taylors event! We’re giving you a brand new pair of Chuck Taylors to design on the spot. Whether you’re into embroidery\, glitter\, paint\, or custom laces\, we’ve got you covered. ✨ All supplies & refreshments provided—FREE! Registration opens on March 11 and is required at least 2 weeks early so we can order your size. Spots are limited!
URL:https://refuelmcconnell.com/event/tailor-your-taylors/
LOCATION:Arts and Crafts Center\, 53490 Wichita St bldg 424\,\, McConnell AFB\, KS\, 67221\, United States
CATEGORIES:Arts & Crafts
ATTACH;FMTTYPE=image/jpeg:https://refuelmcconnell.com/wp-content/uploads/2026/03/22fss-tailor-your-taylors-event.jpg
END:VEVENT
BEGIN:VEVENT
DTSTART;TZID=America/Chicago:20260427T173000
DTEND;TZID=America/Chicago:20260427T183000
DTSTAMP:20260425T071546
CREATED:20260204T135655Z
LAST-MODIFIED:20260204T135655Z
UID:10002123-1777311000-1777314600@refuelmcconnell.com
SUMMARY:As the Page Turns
DESCRIPTION:As the Page Turns is an Adult (ages 18+) book club that meets monthly in the Library’s Sunflower Room. Each month we will have a potluck that matches the monthly selection. You do not need to bring food to participate in the book club. This month’s title: “Silence” by Shusaku Endo This month’s potluck theme: Asian foods Please check out this months selection at the Library or on one of our Databases. \nSign up here
URL:https://refuelmcconnell.com/event/as-the-page-turns-7/
LOCATION:McConnell AFB Library\, 53476 Wichita St.\, Wichita\, KS\, 67221\, United States
CATEGORIES:Library
ATTACH;FMTTYPE=image/jpeg:https://refuelmcconnell.com/wp-content/uploads/2024/12/22FSS-as-the-page-turns-events.jpg
END:VEVENT
BEGIN:VEVENT
DTSTART;TZID=America/Chicago:20260427T190000
DTEND;TZID=America/Chicago:20260427T203000
DTSTAMP:20260425T071546
CREATED:20260204T135913Z
LAST-MODIFIED:20260204T135913Z
UID:10002124-1777316400-1777321800@refuelmcconnell.com
SUMMARY:Craftaholics
DESCRIPTION:Join the Library for a once a month Adult (18+) craft night. This month we will make Doodle Silhouette Canvases. All supplies will be provided. \nSign up here
URL:https://refuelmcconnell.com/event/craftaholics-6/
LOCATION:McConnell AFB Library\, 53476 Wichita St.\, Wichita\, KS\, 67221\, United States
CATEGORIES:Library
ATTACH;FMTTYPE=image/jpeg:https://refuelmcconnell.com/wp-content/uploads/2024/12/22FSS-crafternoon-events.jpg
END:VEVENT
BEGIN:VEVENT
DTSTART;TZID=America/Chicago:20260428T100000
DTEND;TZID=America/Chicago:20260428T110000
DTSTAMP:20260425T071546
CREATED:20250908T204245Z
LAST-MODIFIED:20260324T141350Z
UID:10001332-1777370400-1777374000@refuelmcconnell.com
SUMMARY:Story Time Squad
DESCRIPTION:📚 Story Time SquadJoin us each week for a fun and engaging program designed for prereaders! Through stories\, crafts\, and play\, little learners will build early literacy skills and discover the joy of reading. \nStory Time will be held in the Library’s Sunflower Room—a cozy space perfect for sparking imagination and a lifelong love of learning.
URL:https://refuelmcconnell.com/event/story-time-squad/2026-04-28/
LOCATION:McConnell AFB Library\, 53476 Wichita St.\, Wichita\, KS\, 67221\, United States
CATEGORIES:Library
ATTACH;FMTTYPE=image/jpeg:https://refuelmcconnell.com/wp-content/uploads/2025/09/AdobeStock_1220601619-scaled.jpeg
END:VEVENT
BEGIN:VEVENT
DTSTART;TZID=America/Chicago:20260428T140000
DTEND;TZID=America/Chicago:20260428T170000
DTSTAMP:20260425T071546
CREATED:20260122T194658Z
LAST-MODIFIED:20260122T230302Z
UID:10002086-1777384800-1777395600@refuelmcconnell.com
SUMMARY:Kitchen Herb Garden Grow
DESCRIPTION:Kitchen Herb Garden Grow 🌱 \nLove to cook but hate the cost of fresh herbs and spices? We’ve got you covered! \nJoin us for our Kitchen Herb Garden Grow event and create your very own personalized window box herb garden—perfect for adding fresh flavor to your favorite meals and inspiring your inner chef. \n🗓 April 28⏰ 2–5 PM📍 Breakaway Porch$15 per garden (please limit one per person) \nAll supplies are provided—just bring your creativity! Space is limited\, so be sure to sign up early before spots are gone. \n👉 Sign up here:https://www.signupgenius.com/go/10C094AADAD29A1FBC43-59026896-kitchen#/
URL:https://refuelmcconnell.com/event/kitchen-herb-garden-grow/
CATEGORIES:Community Center
ATTACH;FMTTYPE=image/jpeg:https://refuelmcconnell.com/wp-content/uploads/2026/01/AdobeStock_727219505_Preview.jpeg
END:VEVENT
BEGIN:VEVENT
DTSTART;TZID=America/Chicago:20260429T140000
DTEND;TZID=America/Chicago:20260429T150000
DTSTAMP:20260425T071546
CREATED:20260205T154627Z
LAST-MODIFIED:20260323T180022Z
UID:10002324-1777471200-1777474800@refuelmcconnell.com
SUMMARY:SkillBridge 101
DESCRIPTION:SkillBridge 101 – Your Pathway to Career Transition Success \nThinking about SkillBridge or not sure where to start? SkillBridge 101 is a recurring virtual briefing designed to walk you through the program\, eligibility\, timelines\, and next steps so you can confidently plan your transition. \n🗓 When: Every other Wednesday at 1400\n📍 Where: Zoom (meeting ID/passcode provided by our office) \nNote: July sessions were adjusted due to scheduling — see updated dates below. \n📞 How to Register / Get Zoom Info:\nMembers must contact our office to receive the Zoom meeting ID and passcode. \nPhone: 316-759-4240 \nPOCs:\n✉️ yana.simms.1@us.af.mil \n✉️ marta.feliciano-powell@us.af.mil \n✉️ jamie.baker.6@us.af.mil \nWhether you’re just exploring options or ready to apply\, SkillBridge 101 will help you set the conditions for a successful transition. We look forward to seeing you there!
URL:https://refuelmcconnell.com/event/skillbridge-101/2026-04-29/
CATEGORIES:Military & Family Readiness Center
ATTACH;FMTTYPE=image/jpeg:https://refuelmcconnell.com/wp-content/uploads/2026/02/22fss-skillbridge-cover.jpg
END:VEVENT
BEGIN:VEVENT
DTSTART;TZID=America/Chicago:20260429T170000
DTEND;TZID=America/Chicago:20260429T190000
DTSTAMP:20260425T071546
CREATED:20251125T175423Z
LAST-MODIFIED:20251125T175423Z
UID:10001877-1777482000-1777489200@refuelmcconnell.com
SUMMARY:Auto Hobby Class Series: Basic Car Maintenance
DESCRIPTION:April 29 | Basic Car MaintenanceFrom filters to fluids\, learn the foundational maintenance tasks every driver should know. Great for anyone wanting to take better care of their vehicle. \n📅 Upcoming Sessions: $5 each \n\n\nMay 27: Car Booth Painting \n\n\nJul 29: Car 101 \n\n\nAug 26: Basic Car Maintenance \n\n\nSept 30: Alignment \n\n\nOct 28: Winter Vehicle Preparedness \n\n\nDec 9: Car Booth Painting \n\n\nAll classes held on the last Wednesday of each month (unless otherwise noted).Stay tuned for sign-ups and details for each session!
URL:https://refuelmcconnell.com/event/auto-hobby-class-series-basic-car-maintenance/
CATEGORIES:Arts & Crafts,Auto Hobby
ATTACH;FMTTYPE=image/jpeg:https://refuelmcconnell.com/wp-content/uploads/2024/12/22FSS-car-repair-events.jpg
END:VEVENT
BEGIN:VEVENT
DTSTART;TZID=America/Chicago:20260430T130000
DTEND;TZID=America/Chicago:20260430T140000
DTSTAMP:20260425T071546
CREATED:20260205T201214Z
LAST-MODIFIED:20260205T201214Z
UID:10002167-1777554000-1777557600@refuelmcconnell.com
SUMMARY:Tuition Assistance Program
DESCRIPTION:Tuition Assistance 101 – Invest in Your Educational Future \nInterested in continuing your education or not sure how to get started? Tuition Assistance 101 is a recurring briefing designed to help you understand how to use the Air Force’s Tuition Assistance Program to reach your educational goals. \nThis session covers eligibility\, the application process\, important timelines\, and how to maximize your benefits. The Tuition Assistance Program provides up to $4\,500 each fiscal year to support your professional and personal growth. \n🗓 When: Every Thursday at 1:00 PM📍 Where: Zoom (meeting ID/passcode provided by our office) \n📞 How to Register / Get Zoom Info:\nMembers must contact our office to receive the Zoom meeting ID and passcode. \nPhone: 316-759-4240 \nPOCs:\n✉️ yana.simms.1@us.af.mil \n✉️ marta.feliciano-powell@us.af.mil \n✉️ jamie.baker.6@us.af.mil \nWhether you’re just exploring educational options or ready to enroll\, Tuition Assistance 101 will give you the tools and knowledge to confidently invest in your future. We look forward to seeing you there!
URL:https://refuelmcconnell.com/event/tuition-assistance-program/2026-04-30/
LOCATION:Education Center
ATTACH;FMTTYPE=image/jpeg:https://refuelmcconnell.com/wp-content/uploads/2026/02/AdobeStock_254326499-scaled-e1770322279232.jpeg
END:VEVENT
END:VCALENDAR