BEGIN:VCALENDAR
VERSION:2.0
PRODID:-//McConnell Air Force Base - ECPv6.15.20//NONSGML v1.0//EN
CALSCALE:GREGORIAN
METHOD:PUBLISH
X-WR-CALNAME:McConnell Air Force Base
X-ORIGINAL-URL:https://refuelmcconnell.com
X-WR-CALDESC:Events for McConnell Air Force Base
REFRESH-INTERVAL;VALUE=DURATION:PT1H
X-Robots-Tag:noindex
X-PUBLISHED-TTL:PT1H
BEGIN:VTIMEZONE
TZID:America/Chicago
BEGIN:DAYLIGHT
TZOFFSETFROM:-0600
TZOFFSETTO:-0500
TZNAME:CDT
DTSTART:20250309T080000
END:DAYLIGHT
BEGIN:STANDARD
TZOFFSETFROM:-0500
TZOFFSETTO:-0600
TZNAME:CST
DTSTART:20251102T070000
END:STANDARD
BEGIN:DAYLIGHT
TZOFFSETFROM:-0600
TZOFFSETTO:-0500
TZNAME:CDT
DTSTART:20260308T080000
END:DAYLIGHT
BEGIN:STANDARD
TZOFFSETFROM:-0500
TZOFFSETTO:-0600
TZNAME:CST
DTSTART:20261101T070000
END:STANDARD
BEGIN:DAYLIGHT
TZOFFSETFROM:-0600
TZOFFSETTO:-0500
TZNAME:CDT
DTSTART:20270314T080000
END:DAYLIGHT
BEGIN:STANDARD
TZOFFSETFROM:-0500
TZOFFSETTO:-0600
TZNAME:CST
DTSTART:20271107T070000
END:STANDARD
END:VTIMEZONE
BEGIN:VEVENT
DTSTART;TZID=America/Chicago:20260424T070000
DTEND;TZID=America/Chicago:20260424T180000
DTSTAMP:20260424T143857
CREATED:20260225T203906Z
LAST-MODIFIED:20260225T203906Z
UID:10002243-1777014000-1777053600@refuelmcconnell.com
SUMMARY:Month of the Military Child Day Lock-In
DESCRIPTION:
URL:https://refuelmcconnell.com/event/month-of-the-military-child-day-lock-in/
LOCATION:Youth Center\, 3015 Arnold Blvd\, Bldg 2800\, Wichita\, KS\, 67210\, United States
CATEGORIES:Youth Programs
ATTACH;FMTTYPE=image/jpeg:https://refuelmcconnell.com/wp-content/uploads/2026/02/22fss-lock-in-events.jpg
END:VEVENT
BEGIN:VEVENT
DTSTART;TZID=America/Chicago:20260424T153000
DTEND;TZID=America/Chicago:20260424T160000
DTSTAMP:20260424T143857
CREATED:20260323T151355Z
LAST-MODIFIED:20260323T172957Z
UID:10002323-1777044600-1777046400@refuelmcconnell.com
SUMMARY:Month of the Military Child Parade
DESCRIPTION:Location: CDC parking lotThe parade will take place on the sidewalks in the north (staff) parking lot\, where children will complete two laps. Parents are invited to line the sidewalks to watch and cheer them on. “Touch-a-Truck” vehicles will be staged in the south parking lot\, which will be available to children and families after they have signed out in the classroom. \nAdditional Information:All staff and parents are asked to park in the lot across the street for the afternoon. \nOnce the parade concludes and children return to their classrooms\, parents will be required to sign them out to ensure proper accountability and supervision.
URL:https://refuelmcconnell.com/event/month-of-the-military-child-parade/
LOCATION:Child Development Center\, 53204 Parsons Dr Bldg 337\, McConnell AFB\, KS\, 67221\, United States
CATEGORIES:Child Development Center,Family,Family Child Care,Fun,Hot Events,Military & Family Readiness Center,School Liaison,Youth Programs
ATTACH;FMTTYPE=image/jpeg:https://refuelmcconnell.com/wp-content/uploads/2026/03/22fss-momc-parade-cover.jpg
END:VEVENT
BEGIN:VEVENT
DTSTART;TZID=America/Chicago:20260424T160000
DTEND;TZID=America/Chicago:20260424T200000
DTSTAMP:20260424T143857
CREATED:20260331T222311Z
LAST-MODIFIED:20260331T222311Z
UID:10002337-1777046400-1777060800@refuelmcconnell.com
SUMMARY:Cosmic Bowling
DESCRIPTION:Enjoy Cosmic Bowling every Friday from 4–8 PM at Tornado Alley Bowling Center! Bowl under the lights with a fun\, high-energy atmosphere perfect for friends and family.
URL:https://refuelmcconnell.com/event/cosmic-bowling/2026-04-24/
CATEGORIES:Tornado Alley Bowling Center
ATTACH;FMTTYPE=image/png:https://refuelmcconnell.com/wp-content/uploads/2024/05/22fss-bowling-events.png
END:VEVENT
BEGIN:VEVENT
DTSTART;TZID=America/Chicago:20260424T173000
DTEND;TZID=America/Chicago:20260424T200000
DTSTAMP:20260424T143857
CREATED:20251126T174434Z
LAST-MODIFIED:20251126T174445Z
UID:10001953-1777051800-1777060800@refuelmcconnell.com
SUMMARY:Wood Shop Safety Build Class
DESCRIPTION:Woodworking Table Build SeriesCost: $30 • Time: 5:30–8 PM \nReady to get into woodworking but not sure where to start? This hands-on\, four-week beginner series will guide you from the basics to a completed project. Our expert instructor will teach tool safety\, wood selection\, joinery\, and finishing techniques—ensuring you gain the confidence to use every tool in our Wood Shop. \nBy the end of the series\, you’ll walk away with new skills and a solid-wood table you built yourself. All tools and materials are included. \nFuture Classes: \n\n\nRound 4: Apr 24\, May 1\, 8 & 15 \n\n\nRound 5: Jul 10\, 17\, 24 & 31 \n\n\nRound 6: Aug 7\, 14\, 21 & 28 \n\n\nRound 7: Sept 11\, 18\, 25 & Oct 2 \n\n\nRound 8: Oct 30\, Nov 6\, 13 & 20
URL:https://refuelmcconnell.com/event/wood-shop-safety-build-class-5/2026-04-24/
CATEGORIES:Arts & Crafts
ATTACH;FMTTYPE=image/jpeg:https://refuelmcconnell.com/wp-content/uploads/2025/11/Wood-Shop-Safety-Build-Class.jpg
END:VEVENT
BEGIN:VEVENT
DTSTART;TZID=America/Chicago:20260424T180000
DTEND;TZID=America/Chicago:20260424T230000
DTSTAMP:20260424T143857
CREATED:20251201T164726Z
LAST-MODIFIED:20260305T141450Z
UID:10002300-1777053600-1777071600@refuelmcconnell.com
SUMMARY:Free Play Friday
DESCRIPTION:Free Play Friday at 6 PMCelebrate the end of the month with a night of pure fun at The Breakaway! \nKick off your weekend early and dive into an evening packed with entertainment. We’ve got something for everyone:• Six different gaming consoles• Classic and modern board games• Mini putt-putt• Sports games and more! \nBring your friends—or come make new ones! No matter how you play\, The Breakaway is the place to be to wrap up the month.
URL:https://refuelmcconnell.com/event/free-play-friday/2026-04-24/
LOCATION:The Breakaway Lounge\, Dole Center Building #412\, McConnell AFB\, KS\, 67221\, United States
CATEGORIES:Community Center,Tanker Tavern
ATTACH;FMTTYPE=image/png:https://refuelmcconnell.com/wp-content/uploads/2025/02/22fss-lan-gaming-events.png
END:VEVENT
END:VCALENDAR