BEGIN:VCALENDAR
VERSION:2.0
PRODID:-//McConnell Air Force Base - ECPv6.15.20//NONSGML v1.0//EN
CALSCALE:GREGORIAN
METHOD:PUBLISH
X-WR-CALNAME:McConnell Air Force Base
X-ORIGINAL-URL:https://refuelmcconnell.com
X-WR-CALDESC:Events for McConnell Air Force Base
REFRESH-INTERVAL;VALUE=DURATION:PT1H
X-Robots-Tag:noindex
X-PUBLISHED-TTL:PT1H
BEGIN:VTIMEZONE
TZID:America/Chicago
BEGIN:DAYLIGHT
TZOFFSETFROM:-0600
TZOFFSETTO:-0500
TZNAME:CDT
DTSTART:20250309T080000
END:DAYLIGHT
BEGIN:STANDARD
TZOFFSETFROM:-0500
TZOFFSETTO:-0600
TZNAME:CST
DTSTART:20251102T070000
END:STANDARD
BEGIN:DAYLIGHT
TZOFFSETFROM:-0600
TZOFFSETTO:-0500
TZNAME:CDT
DTSTART:20260308T080000
END:DAYLIGHT
BEGIN:STANDARD
TZOFFSETFROM:-0500
TZOFFSETTO:-0600
TZNAME:CST
DTSTART:20261101T070000
END:STANDARD
BEGIN:DAYLIGHT
TZOFFSETFROM:-0600
TZOFFSETTO:-0500
TZNAME:CDT
DTSTART:20270314T080000
END:DAYLIGHT
BEGIN:STANDARD
TZOFFSETFROM:-0500
TZOFFSETTO:-0600
TZNAME:CST
DTSTART:20271107T070000
END:STANDARD
END:VTIMEZONE
BEGIN:VEVENT
DTSTART;TZID=America/Chicago:20260421T100000
DTEND;TZID=America/Chicago:20260421T110000
DTSTAMP:20260421T134945
CREATED:20250908T204245Z
LAST-MODIFIED:20260324T141350Z
UID:10001331-1776765600-1776769200@refuelmcconnell.com
SUMMARY:Story Time Squad
DESCRIPTION:📚 Story Time SquadJoin us each week for a fun and engaging program designed for prereaders! Through stories\, crafts\, and play\, little learners will build early literacy skills and discover the joy of reading. \nStory Time will be held in the Library’s Sunflower Room—a cozy space perfect for sparking imagination and a lifelong love of learning.
URL:https://refuelmcconnell.com/event/story-time-squad/2026-04-21/
LOCATION:McConnell AFB Library\, 53476 Wichita St.\, Wichita\, KS\, 67221\, United States
CATEGORIES:Library
ATTACH;FMTTYPE=image/jpeg:https://refuelmcconnell.com/wp-content/uploads/2025/09/AdobeStock_1220601619-scaled.jpeg
END:VEVENT
END:VCALENDAR